BEGIN:VCALENDAR
VERSION:2.0
PRODID:-//Bangkok Advance Technology Co., Ltd - ECPv5.10.0//NONSGML v1.0//EN
CALSCALE:GREGORIAN
METHOD:PUBLISH
X-WR-CALNAME:Bangkok Advance Technology Co., Ltd
X-ORIGINAL-URL:https://www.batco.co.th
X-WR-CALDESC:Events for Bangkok Advance Technology Co., Ltd
BEGIN:VTIMEZONE
TZID:Asia/Krasnoyarsk
BEGIN:STANDARD
TZOFFSETFROM:+0700
TZOFFSETTO:+0700
TZNAME:+07
DTSTART:20220101T000000
END:STANDARD
END:VTIMEZONE
BEGIN:VEVENT
DTSTART;TZID=Asia/Krasnoyarsk:20230206T080000
DTEND;TZID=Asia/Krasnoyarsk:20230208T170000
DTSTAMP:20260423T045141
CREATED:20230124T081710Z
LAST-MODIFIED:20230124T081859Z
UID:2426-1675670400-1675875600@www.batco.co.th
SUMMARY:ประชุมวิชาการ ICN Forum ครั้งที่ 17
DESCRIPTION:ประชุมวิชาการ ICN Forum ครั้งที่ 17\nIC Update 2023 : Unite ICNs: Transform Theory through Experiences to IPC Best Practice
URL:https://www.batco.co.th/index.php/event/event07/
LOCATION:The Empress Chiang Mai Hotel\, 199/42 Chang Klan Road\, Chiang Mai\, Chiang Mai\, 50100\, Thailand
CATEGORIES:New Event
ATTACH;FMTTYPE=image/jpeg:https://www.batco.co.th/wp-content/uploads/2023/01/banner_event.jpg
END:VEVENT
BEGIN:VEVENT
DTSTART;TZID=Asia/Krasnoyarsk:20221216T080000
DTEND;TZID=Asia/Krasnoyarsk:20221216T170000
DTSTAMP:20260423T045141
CREATED:20221116T031713Z
LAST-MODIFIED:20221116T032003Z
UID:2365-1671177600-1671210000@www.batco.co.th
SUMMARY:การป้องกันและควบคุมการติดเชื้อในสถานพยาบาล  ในสถานการณ์การระบาดของโรคอุบัติใหม่
DESCRIPTION:งานประชุมวิชาการ\n“การป้องกันและควบคุมการติดเชื้อในสถานพยาบาลในสถานการณ์การระบาดของโรคอุบัติใหม่”\n16 ธันวาคม 2565 ห้องทับทิมสยาม 2 ชั้น 5\nโรงแรมสุนีย์แกรนด์โฮเทล แอน คอนเวนชั่นเซ็นเตอร์\nจังหวัดอุบลราชธานี
URL:https://www.batco.co.th/index.php/event/event06/
LOCATION:Sunee Grand Hotel & Convention Center\, 512/8\, Ubon Ratchathani\, Ubon Ratchathani\, 34000\, Thailand
CATEGORIES:New Event
ATTACH;FMTTYPE=image/jpeg:https://www.batco.co.th/wp-content/uploads/2022/11/banner_event-1.jpg
END:VEVENT
BEGIN:VEVENT
DTSTART;TZID=Asia/Krasnoyarsk:20221127T080000
DTEND;TZID=Asia/Krasnoyarsk:20221129T170000
DTSTAMP:20260423T045141
CREATED:20221115T035721Z
LAST-MODIFIED:20221116T031957Z
UID:2359-1669536000-1669741200@www.batco.co.th
SUMMARY:Thailand LA Forum 2022
DESCRIPTION:มหกรรมคุณภาพมาตรฐานห้องปฏิบัติการระดับชาติ ครั้งที่ 11 ประจำปี 2565\nThailand LA Forum 2022\n \nวันที่ 27-29 พฤศจิกายน 2565\nณ โรงเเรมอัศวิน แกรนด์ คอนเวนชั่น\, กรุงเทพมหานครฯ\n 
URL:https://www.batco.co.th/index.php/event/event05/
LOCATION:Asawin Grand Convention Hotel | Bangkok\, Asawin Grand Convention Hotel | Bangkok\, 88 Vibhavadi Rangsit Rd (Kamphaeng Phet 6)\, Talad Bangkhen\, Lak Si\, Bangkok\, 10210\, Thailand
CATEGORIES:New Event
ATTACH;FMTTYPE=image/jpeg:https://www.batco.co.th/wp-content/uploads/2022/11/banner_event.jpg
END:VEVENT
BEGIN:VEVENT
DTSTART;TZID=Asia/Krasnoyarsk:20220827T080000
DTEND;TZID=Asia/Krasnoyarsk:20220828T170000
DTSTAMP:20260423T045141
CREATED:20220616T040118Z
LAST-MODIFIED:20221116T032229Z
UID:2211-1661587200-1661706000@www.batco.co.th
SUMMARY:ประชุมประจำปี 2565 สมาคมศูนย์กลางงานปราศจากเชื้อแห่งประเทศไทย
DESCRIPTION:ประชุมประจำปี 2565 สมาคมศูนย์กลางงานปราศจากเชื้อแห่งประเทศไทย\n(Central Sterilizing Services Association of Thailand)
URL:https://www.batco.co.th/index.php/event/event04/
LOCATION:โรงแรมแกรนด์ริชมอนด์\, 282 ถนน รัตนาธิเบศร์ บางกระสอ\, เมือง\, นนทบุรี\, 11000\, Thailand
CATEGORIES:New Event
ATTACH;FMTTYPE=image/jpeg:https://www.batco.co.th/wp-content/uploads/2022/06/banner_event.jpg
END:VEVENT
BEGIN:VEVENT
DTSTART;TZID=Asia/Krasnoyarsk:20220812T080000
DTEND;TZID=Asia/Krasnoyarsk:20220813T170000
DTSTAMP:20260423T045141
CREATED:20220719T032554Z
LAST-MODIFIED:20221116T031943Z
UID:2234-1660291200-1660410000@www.batco.co.th
SUMMARY:ประชุมวิชาการและประชุมใหญ่สามัญประจำปี 2565 สมาคมพยาบาลห้องผ่าตัดแห่งประเทศไทย
DESCRIPTION:สมาคมพยาบาลห้องผ่าตัดแห่งประเทศไทย\nขอเชิญเข้าร่วมประชุมวิชาการและประชุมใหญ่สามัญประจำปี 2565\n เรื่อง “Vision: driven in future Perioperative Nursing”\n\nในวันศุกร์ – วันเสาร์ ที่ 12 – 13 สิงหาคม 2565\nณ ห้องริชมอนด์ แกรนด์ บอลรูม โรงแรมแกรนด์ริชมอนด์ จ.นนทบุรี
URL:https://www.batco.co.th/index.php/event/event03/
LOCATION:โรงแรมแกรนด์ริชมอนด์\, 282 ถนน รัตนาธิเบศร์ บางกระสอ\, เมือง\, นนทบุรี\, 11000\, Thailand
CATEGORIES:New Event
ATTACH;FMTTYPE=image/jpeg:https://www.batco.co.th/wp-content/uploads/2022/07/banner_event.jpg
END:VEVENT
BEGIN:VEVENT
DTSTART;TZID=Asia/Krasnoyarsk:20220615T080000
DTEND;TZID=Asia/Krasnoyarsk:20220618T170000
DTSTAMP:20260423T045141
CREATED:20220422T035618Z
LAST-MODIFIED:20221116T031935Z
UID:2178-1655280000-1655571600@www.batco.co.th
SUMMARY:ProPak Asia 2022
DESCRIPTION:ProPak Asia\, confirms to be held in June 2022 includingnew sectors expansion\, sustainable packaging solution\, sustainability insight approach in show floor and strict safety and hygiene measure.\nProPak Asia ready to return to market in June 2022 with product expansion\, digital implementation\, and introduction of variety sustainable approach in its event and industry. \nProPak Asia 2022 confirmed its event today on 15-18 June 2022 at BITEC hall\, Bangkok Thailand\, providing the opportunities for many vertical markets to explore\, source\, network with innovative technology and solutions in processing and packaging from more than thousand brands and companies around the world. \nProPak Asia 2022 under the theme of “Sustainability in Processing and Packaging for our Better World” will demonstrate the advanced\, innovative technology and solution in packaging and processing which covered under varieties of vertical markets. They will be being showcased through a series of panel discussion\, technical talk\, keynote speech\, and the latest products & technology on the show floor. \nEstablishing ProPak Asia 2022 to be a leading sustainable event\, we will bring back the In-Person event to welcome participants from around the world. In the 4 days of In-Person event\, participants will have opportunity to network and get update on industry insight in sustainable way of production\, and processing. With the evolution and dynamic changed in the customers demand\, this is a great opportunity also it is opportunities for audiences to refresh their knowledge\, up to date technology and learn more on the evolution happened in past years.
URL:https://www.batco.co.th/index.php/event/event02/
LOCATION:BITEC BANGNA\, BITEC BANGNA 88 Debaratana Road (km. 1) Bangna Tai.\, BANGNA\, Bangkok\, 10260\, Thailand
CATEGORIES:New Event
ATTACH;FMTTYPE=image/jpeg:https://www.batco.co.th/wp-content/uploads/2022/04/Untitled-1.jpg
END:VEVENT
BEGIN:VEVENT
DTSTART;TZID=Asia/Krasnoyarsk:20220615T080000
DTEND;TZID=Asia/Krasnoyarsk:20220617T170000
DTSTAMP:20260423T045141
CREATED:20220422T033634Z
LAST-MODIFIED:20220422T040509Z
UID:2171-1655280000-1655485200@www.batco.co.th
SUMMARY:ประชุมสัมมนาระดับชาติ เรื่อง“การป้องกันและควบคุมการติดเชื้อในโรงพยาบาล” ครั้งที่ 17
DESCRIPTION:ประชุมสัมมนาระดับชาติ เรื่อง“การป้องกันและควบคุมการติดเชื้อในโรงพยาบาล” ครั้งที่ 17\nในหัวข้อ “ยุคใหม่ของการป้องกันและควบคุมการติดเชื้อ”
URL:https://www.batco.co.th/index.php/event/event01/
LOCATION:Mytt Beach Hotel\, 10 Moo 9 North Pattaya Beach Road\, Pattaya\, Chonburi\, 20150\, Thailand
CATEGORIES:New Event
END:VEVENT
BEGIN:VEVENT
DTSTART;TZID=Asia/Krasnoyarsk:20220524T080000
DTEND;TZID=Asia/Krasnoyarsk:20220527T170000
DTSTAMP:20260423T045141
CREATED:20220422T031543Z
LAST-MODIFIED:20221116T032117Z
UID:2162-1653379200-1653670800@www.batco.co.th
SUMMARY:ประชุมวิชาการประจำปีทางเทคนิคการแพทย์ ครั้งที่ 44 “MT Gearing up for Megatrends”
DESCRIPTION:ขอเชิญเข้าร่วมการประชุมวิชาการประจำปีสมาคมเทคนิคการแพทย์แห่งประเทศไทยในพระอุปถัมภ์ฯ (ACMTT) ครั้งที่ 44 ประจำปี 2565\nในหัวข้อเรื่อง “MT Gearing Up for Megatrends”\nระหว่างวันที่ 24 – 27 พฤษภาคม 2565\nณ โรงแรมแอมบาสซาเดอร์ ซิตี้ จอมเทียน พัทยา จังหวัดชลบุรี\n\n\nรายละเอียด https://www.amtt.org/public/content/502/.attach/355_%E2%A4%C3%A7%A1%D2%C3-ACMTT44-2022.pdf
URL:https://www.batco.co.th/index.php/event/event00/
LOCATION:Ambassador City Jomtien\, 21/10 Sukhumvit Rd.\,\, Na Jomtien\, 21/10\, Chonburi\, 20250\, Thailand
CATEGORIES:New Event
ATTACH;FMTTYPE=image/jpeg:https://www.batco.co.th/wp-content/uploads/2022/04/Untitled-1-1.jpg
END:VEVENT
BEGIN:VEVENT
DTSTART;TZID=Asia/Krasnoyarsk:20220509T080000
DTEND;TZID=Asia/Krasnoyarsk:20220511T170000
DTSTAMP:20260423T045141
CREATED:20220422T030004Z
LAST-MODIFIED:20221116T032126Z
UID:2157-1652083200-1652288400@www.batco.co.th
SUMMARY:ประชุมวิชาการ ICN Forum ครั้งที่ 16 : IC Update 2022 เรื่อง Top ways to be a smart ICN
DESCRIPTION:สมาคมพยาบาลด้านการป้องกันและควบคุมโรคติดเชื้อ\nจัดตั้งขึ้นมาเพื่อ เป็นศูนย์กลางในการพัฒนาวิชาการ บุคลากร และองค์ความรู้ พร้อมทั้งเผยแพร่ แลกเปลี่ยนองค์ความรู้ และประสบการณ์ในด้านการป้องกันและควบคุมโรคติดเชื้อแก่สมาชิกและบุคคลทั่วไป\nเพื่อเป็นการปฎิบัติตามวัตุประสงค์ของสมาคมฯ จึงทำให้เกิดการประชุมทั้งประชุมวิชาการประปีอย่างน้อยปีละ 1 ครั้ง
URL:https://www.batco.co.th/index.php/event/event0/
LOCATION:ICN Forum 16 (Online) Zoom Meeting\, Zoom Meeting
CATEGORIES:New Event
ATTACH;FMTTYPE=image/jpeg:https://www.batco.co.th/wp-content/uploads/2022/04/Untitled-1-2.jpg
END:VEVENT
BEGIN:VEVENT
DTSTART;TZID=Asia/Krasnoyarsk:20220404T080000
DTEND;TZID=Asia/Krasnoyarsk:20220407T170000
DTSTAMP:20260423T045141
CREATED:20220316T085016Z
LAST-MODIFIED:20220422T035038Z
UID:2097-1649059200-1649350800@www.batco.co.th
SUMMARY:TIF & FOOD PACK ASIA 2022
DESCRIPTION: FOOD PACK ASIA 2022\n“4 – 7” APRIL 2022 BITEC BANGNA\nFOOD – BEVERAGE PROCESSING\, PACKAGING AND INTEGRATED LOGISTICS EXHIBITION\n” TECHNOLOGY FOR NEXT NORMAL” \n\nFood Pack Asia 2022 งานเดียวที่ให้ครบทุกเรื่องอุตสาหกรรมอาหาร เครื่องดื่ม บรรจุภัณฑ์ และโลจิสติกส์\n\n\nอัดแน่นไปด้วยทัพเครื่องจักรอัตโนมัติ-แปรรูปอาหาร\, เครื่องจักรบรรจุภัณฑ์ และระบบโลจิสติกส์ครบวงจร ตัวช่วยสำคัญของธุรกิจท่าน
URL:https://www.batco.co.th/index.php/event/tif-food-pack-asia-2022/
LOCATION:BITEC BANGNA\, BITEC BANGNA 88 Debaratana Road (km. 1) Bangna Tai.\, BANGNA\, Bangkok\, 10260\, Thailand
CATEGORIES:New Event
ATTACH;FMTTYPE=image/jpeg:https://www.batco.co.th/wp-content/uploads/2022/03/Untitled-1-1.jpg
END:VEVENT
END:VCALENDAR